﻿BEGIN:VCALENDAR
VERSION:2.0
PRODID:-//Tap Cancer Out - ECPv6.15.20//NONSGML v1.0//EN
CALSCALE:GREGORIAN
METHOD:PUBLISH
X-ORIGINAL-URL:https://tapcancerout.org
X-WR-CALDESC:Events for Tap Cancer Out
REFRESH-INTERVAL;VALUE=DURATION:PT1H
X-Robots-Tag:noindex
X-PUBLISHED-TTL:PT1H
BEGIN:VTIMEZONE
TZID:America/New_York
BEGIN:DAYLIGHT
TZOFFSETFROM:-0500
TZOFFSETTO:-0400
TZNAME:EDT
DTSTART:20250309T070000
END:DAYLIGHT
BEGIN:STANDARD
TZOFFSETFROM:-0400
TZOFFSETTO:-0500
TZNAME:EST
DTSTART:20251102T060000
END:STANDARD
BEGIN:DAYLIGHT
TZOFFSETFROM:-0500
TZOFFSETTO:-0400
TZNAME:EDT
DTSTART:20260308T070000
END:DAYLIGHT
BEGIN:STANDARD
TZOFFSETFROM:-0400
TZOFFSETTO:-0500
TZNAME:EST
DTSTART:20261101T060000
END:STANDARD
BEGIN:DAYLIGHT
TZOFFSETFROM:-0500
TZOFFSETTO:-0400
TZNAME:EDT
DTSTART:20270314T070000
END:DAYLIGHT
BEGIN:STANDARD
TZOFFSETFROM:-0400
TZOFFSETTO:-0500
TZNAME:EST
DTSTART:20271107T060000
END:STANDARD
END:VTIMEZONE
BEGIN:VEVENT
DTSTART;VALUE=DATE:20261212
DTEND;VALUE=DATE:20261213
DTSTAMP:20260422T055829
CREATED:20231212T204753Z
LAST-MODIFIED:20260102T194708Z
UID:25581-1797033600-1797119999@tapcancerout.org
SUMMARY:Global Grappling Day 2026
DESCRIPTION:This is just an informational page – please click here to go directly to the Global Grappling Day campaign page to register\, fundraise\, and/or donate – https://wecan.tapcancerout.org/campaign/2026-tap-cancer-out-global-grappling-day/c756894 \nAre you ready to roll for a reason? \nOn December 12th\, 2026\, we’re activating our worldwide #TCOArmy to fundraise and roll for a reason TOGETHER for Global Grappling Day! Since 2020 Global Grappling Day has united 1\,200+ fundraisers across the globe to raise more than $1\,000\,000 in the fight against cancer. \nWhat is Global Grappling Day? \nGlobal Grappling Day is a day of giving and impact where Grapplers around the world will slap\, bump\, and roll for one hour straight in honor of those who can’t stop fighting after just one hour\, one day\, or even one year. Participants have the opportunity to fundraise leading up to Global Grappling Day and earn perks\, quite literally fighting for all the cancer warriors that are in the fight of their lives. \nThis is the only Tap Cancer Out event we host where literally ANYONE\, ANYWHERE in the world can take part\, and we hope you do. All you need is ONE day and ONE hour to change the world! \nHope to see you on December 12th!!
URL:https://tapcancerout.org/event/global-grappling-day-2026/
LOCATION:Anywhere in the World
CATEGORIES:Tournaments
ATTACH;FMTTYPE=image/png:https://tapcancerout.org/wp-content/uploads/2023/12/YouTube-Thumbnail-GGD26.png
END:VEVENT
END:VCALENDAR